BEGIN:VCALENDAR
VERSION:2.0
PRODID:-//Dr Alison Grimaldi - ECPv6.15.17.1//NONSGML v1.0//EN
CALSCALE:GREGORIAN
METHOD:PUBLISH
X-ORIGINAL-URL:https://dralisongrimaldi.com
X-WR-CALDESC:Events for Dr Alison Grimaldi
REFRESH-INTERVAL;VALUE=DURATION:PT1H
X-Robots-Tag:noindex
X-PUBLISHED-TTL:PT1H
BEGIN:VTIMEZONE
TZID:Europe/Rome
BEGIN:DAYLIGHT
TZOFFSETFROM:+0100
TZOFFSETTO:+0200
TZNAME:CEST
DTSTART:20240331T010000
END:DAYLIGHT
BEGIN:STANDARD
TZOFFSETFROM:+0200
TZOFFSETTO:+0100
TZNAME:CET
DTSTART:20241027T010000
END:STANDARD
BEGIN:DAYLIGHT
TZOFFSETFROM:+0100
TZOFFSETTO:+0200
TZNAME:CEST
DTSTART:20250330T010000
END:DAYLIGHT
BEGIN:STANDARD
TZOFFSETFROM:+0200
TZOFFSETTO:+0100
TZNAME:CET
DTSTART:20251026T010000
END:STANDARD
BEGIN:DAYLIGHT
TZOFFSETFROM:+0100
TZOFFSETTO:+0200
TZNAME:CEST
DTSTART:20260329T010000
END:DAYLIGHT
BEGIN:STANDARD
TZOFFSETFROM:+0200
TZOFFSETTO:+0100
TZNAME:CET
DTSTART:20261025T010000
END:STANDARD
END:VTIMEZONE
BEGIN:VTIMEZONE
TZID:Australia/Melbourne
BEGIN:STANDARD
TZOFFSETFROM:+1100
TZOFFSETTO:+1000
TZNAME:AEST
DTSTART:20220402T160000
END:STANDARD
BEGIN:DAYLIGHT
TZOFFSETFROM:+1000
TZOFFSETTO:+1100
TZNAME:AEDT
DTSTART:20221001T160000
END:DAYLIGHT
BEGIN:STANDARD
TZOFFSETFROM:+1100
TZOFFSETTO:+1000
TZNAME:AEST
DTSTART:20230401T160000
END:STANDARD
BEGIN:DAYLIGHT
TZOFFSETFROM:+1000
TZOFFSETTO:+1100
TZNAME:AEDT
DTSTART:20230930T160000
END:DAYLIGHT
BEGIN:STANDARD
TZOFFSETFROM:+1100
TZOFFSETTO:+1000
TZNAME:AEST
DTSTART:20240406T160000
END:STANDARD
BEGIN:DAYLIGHT
TZOFFSETFROM:+1000
TZOFFSETTO:+1100
TZNAME:AEDT
DTSTART:20241005T160000
END:DAYLIGHT
END:VTIMEZONE
BEGIN:VEVENT
DTSTART;TZID=Europe/Rome:20250316T080000
DTEND;TZID=Europe/Rome:20250316T170000
DTSTAMP:20260423T014549
CREATED:20241025T060926Z
LAST-MODIFIED:20241025T093715Z
UID:10000090-1742112000-1742144400@dralisongrimaldi.com
SUMMARY:Tendinopathies of the Hip and Pelvis: diagnosis and management  – Translated in Italian | 2025
DESCRIPTION:This workshop will focus on gluteal tendinopathy and proximal hamstring tendinopathy\, the two most common tendinopathies of the hip and pelvis. \nThere are limited places available for this workshop\, so book as soon as possible to avoid disappointment.
URL:https://dralisongrimaldi.com/event/tendinopathies-of-the-hip-and-pelvis-diagnosis-and-management-italy-2025/
LOCATION:Edumed Brescia Italy\, Via della Badia 18\, Brescia\, 25127\, Italy
CATEGORIES:Professional Development Workshops
ATTACH;FMTTYPE=image/png:https://dralisongrimaldi.com/wp-content/uploads/Tendinopathies-of-the-Hip-and-Pelvis-diagnosis-and-management-Translated-in-Italian-2025.png
END:VEVENT
BEGIN:VEVENT
DTSTART;TZID=Europe/Rome:20250315T080000
DTEND;TZID=Europe/Rome:20250315T170000
DTSTAMP:20260423T014549
CREATED:20241025T060351Z
LAST-MODIFIED:20241025T093731Z
UID:10000089-1742025600-1742058000@dralisongrimaldi.com
SUMMARY:Anterior hip impingement and instability: diagnosis and management – Translated in Italian | 2025
DESCRIPTION:The primary focus of this course will be an understanding of the mechanisms of overloading and dysfunction associated with anterior hip pain\, as well as methods for identifying and addressing these issues. \n  \n\nThere are limited places available for this workshop\, so book as soon as possible to avoid disappointment.
URL:https://dralisongrimaldi.com/event/anterior-hip-impingement-instability-diagnosis-and-management-italy-2025/
LOCATION:Edumed Brescia Italy\, Via della Badia 18\, Brescia\, 25127\, Italy
CATEGORIES:Professional Development Workshops
ATTACH;FMTTYPE=image/png:https://dralisongrimaldi.com/wp-content/uploads/Anterior-hip-impingement-and-instability-diagnosis-and-management-Translated-in-Italian-2025.png
END:VEVENT
BEGIN:VEVENT
DTSTART;TZID=Australia/Melbourne:20230924T080000
DTEND;TZID=Australia/Melbourne:20230924T170000
DTSTAMP:20260423T014549
CREATED:20230613T041208Z
LAST-MODIFIED:20230622T053820Z
UID:10000009-1695542400-1695574800@dralisongrimaldi.com
SUMMARY:Tendinopathies of the Hip and Pelvis: diagnosis and management  – Translated in Italian | 2023
DESCRIPTION:
URL:https://dralisongrimaldi.com/event/tendinopathies-of-the-hip-and-pelvis-diagnosis-and-management-italy-2023/
LOCATION:Edumed Brescia Italy\, Via della Badia 18\, Brescia\, 25127\, Italy
CATEGORIES:Workshop
ATTACH;FMTTYPE=image/png:https://dralisongrimaldi.com/wp-content/uploads/Tendinopathies-of-the-Hip-and-Pelvis-diagnosis-and-management-Translated-in-Italian-2023-1.png
END:VEVENT
BEGIN:VEVENT
DTSTART;TZID=Australia/Melbourne:20230923T080000
DTEND;TZID=Australia/Melbourne:20230923T170000
DTSTAMP:20260423T014549
CREATED:20230613T040818Z
LAST-MODIFIED:20230622T053714Z
UID:10000008-1695456000-1695488400@dralisongrimaldi.com
SUMMARY:Anterior hip impingement and instability: diagnosis and management – Translated in Italian | 2023
DESCRIPTION:
URL:https://dralisongrimaldi.com/event/anterior-hip-impingement-instability-diagnosis-and-management-italy-2023/
LOCATION:Edumed Brescia Italy\, Via della Badia 18\, Brescia\, 25127\, Italy
CATEGORIES:Workshop
ATTACH;FMTTYPE=image/png:https://dralisongrimaldi.com/wp-content/uploads/Anterior-hip-impingement-and-instability-diagnosis-and-management-Translated-in-Italian-2023.png
END:VEVENT
END:VCALENDAR