BEGIN:VCALENDAR
VERSION:2.0
PRODID:-//Dr Alison Grimaldi - ECPv6.15.17.1//NONSGML v1.0//EN
CALSCALE:GREGORIAN
METHOD:PUBLISH
X-ORIGINAL-URL:https://dralisongrimaldi.com
X-WR-CALDESC:Events for Dr Alison Grimaldi
REFRESH-INTERVAL;VALUE=DURATION:PT1H
X-Robots-Tag:noindex
X-PUBLISHED-TTL:PT1H
BEGIN:VTIMEZONE
TZID:Europe/London
BEGIN:DAYLIGHT
TZOFFSETFROM:+0000
TZOFFSETTO:+0100
TZNAME:BST
DTSTART:20240331T010000
END:DAYLIGHT
BEGIN:STANDARD
TZOFFSETFROM:+0100
TZOFFSETTO:+0000
TZNAME:GMT
DTSTART:20241027T010000
END:STANDARD
BEGIN:DAYLIGHT
TZOFFSETFROM:+0000
TZOFFSETTO:+0100
TZNAME:BST
DTSTART:20250330T010000
END:DAYLIGHT
BEGIN:STANDARD
TZOFFSETFROM:+0100
TZOFFSETTO:+0000
TZNAME:GMT
DTSTART:20251026T010000
END:STANDARD
BEGIN:DAYLIGHT
TZOFFSETFROM:+0000
TZOFFSETTO:+0100
TZNAME:BST
DTSTART:20260329T010000
END:DAYLIGHT
BEGIN:STANDARD
TZOFFSETFROM:+0100
TZOFFSETTO:+0000
TZNAME:GMT
DTSTART:20261025T010000
END:STANDARD
END:VTIMEZONE
BEGIN:VEVENT
DTSTART;TZID=Europe/London:20250309T090000
DTEND;TZID=Europe/London:20250309T170000
DTSTAMP:20260422T193748
CREATED:20241025T052754Z
LAST-MODIFIED:20241025T093750Z
UID:10000088-1741510800-1741539600@dralisongrimaldi.com
SUMMARY:Lateral Hip and Buttock Pain Workshop | Manchester 2025
DESCRIPTION:Upskill in practical applications of assessment and management of joint\, tendon and nerve related lateral hip and buttock pain\, in Manchester\, with Dr. Alison Grimaldi\, physiotherapist\, researcher and educator. \n\n\n\n\n\n\n\n\n\n\n\nYOU MIGHT LIKE TO BOOK FOR DAY 1 (Saturday 8th March) MANCHESTER WORKSHOP:\n ANTERIOR HIP AND GROIN PAIN!\nThere are limited places available for this workshop\, so book as soon as possible to avoid disappointment. \n\n\n\n\n\n\n\n\n\n\n   
URL:https://dralisongrimaldi.com/event/lateral-hip-and-buttock-pain-workshop-manchester-2025/
LOCATION:Manchester Private Hospital – Spire Healthcare\, 170 Barlow Moor Rd Didsbury\, Manchester\, United Kingdom
CATEGORIES:Professional Development Workshops
ATTACH;FMTTYPE=image/png:https://dralisongrimaldi.com/wp-content/uploads/Lateral-Hip-and-Buttock-Pain-Workshop-Manchester-2025.png
END:VEVENT
BEGIN:VEVENT
DTSTART;TZID=Europe/London:20250308T090000
DTEND;TZID=Europe/London:20250308T170000
DTSTAMP:20260422T193748
CREATED:20241025T052304Z
LAST-MODIFIED:20241025T093811Z
UID:10000087-1741424400-1741453200@dralisongrimaldi.com
SUMMARY:Anterior Hip and Groin Pain Workshop | Manchester 2025
DESCRIPTION:Upskill in practical applications of assessment and management of joint\, tendon and nerve related anterior hip and groin pain\, in Manchester\, with Dr. Alison Grimaldi\, physiotherapist\, researcher and educator. \n\n\n\n\n\n\n\n\n\n\n\nYOU MIGHT LIKE TO BOOK FOR DAY 2 (Sunday 9th March) MANCHESTER WORKSHOP:\n LATERAL HIP AND BUTTOCK PAIN!\nThere are limited places available for this workshop\, so book as soon as possible to avoid disappointment. \n\n\n\n\n\n\n\n\n\n   
URL:https://dralisongrimaldi.com/event/anterior-hip-and-groin-pain-workshop-manchester-2025/
LOCATION:Manchester Private Hospital – Spire Healthcare\, 170 Barlow Moor Rd Didsbury\, Manchester\, United Kingdom
CATEGORIES:Professional Development Workshops
ATTACH;FMTTYPE=image/png:https://dralisongrimaldi.com/wp-content/uploads/Anterior-Hip-and-Groin-Pain-Workshop-Manchester-2025.png
END:VEVENT
END:VCALENDAR